BEGIN:VCALENDAR
VERSION:2.0
PRODID:-//Street Eats @ Franko - ECPv5.3.2.1//NONSGML v1.0//EN
CALSCALE:GREGORIAN
METHOD:PUBLISH
X-WR-CALNAME:Street Eats @ Franko
X-ORIGINAL-URL:https://www.streeteatsfranko.com.au
X-WR-CALDESC:Events for Street Eats @ Franko
BEGIN:VTIMEZONE
TZID:Australia/Hobart
BEGIN:STANDARD
TZOFFSETFROM:+1100
TZOFFSETTO:+1000
TZNAME:AEST
DTSTART:20210403T160000
END:STANDARD
BEGIN:DAYLIGHT
TZOFFSETFROM:+1000
TZOFFSETTO:+1100
TZNAME:AEDT
DTSTART:20211002T160000
END:DAYLIGHT
END:VTIMEZONE
BEGIN:VEVENT
DTSTART;TZID=Australia/Hobart:20210319T160000
DTEND;TZID=Australia/Hobart:20210319T210000
DTSTAMP:20210301T003833
CREATED:20210214T231534Z
LAST-MODIFIED:20210224T235816Z
UID:14686-1616169600-1616187600@www.streeteatsfranko.com.au
SUMMARY:Franko March 19 | Jay Jarome + Rudy Marshall | Karai + Onyx
DESCRIPTION:4.45pm > Karai + Onyx\n6.45pm > Jay Jarome + Rudy Marshall
URL:https://www.streeteatsfranko.com.au/event/franko-march-19-2021/
LOCATION:Franklin Square\, 70 Macquarie Street\, Hobart\, Tasmania\, 7000\, Australia
ATTACH;FMTTYPE=image/jpeg:https://www.streeteatsfranko.com.au/wp-content/uploads/2021/02/19-03-2021.jpg
ORGANIZER;CN="Peattie%20Events":MAILTO:admin@peattie.events
END:VEVENT
END:VCALENDAR