BEGIN:VCALENDAR
VERSION:2.0
PRODID:-//Street Eats @ Franko - ECPv5.3.2.1//NONSGML v1.0//EN
CALSCALE:GREGORIAN
METHOD:PUBLISH
X-WR-CALNAME:Street Eats @ Franko
X-ORIGINAL-URL:https://www.streeteatsfranko.com.au
X-WR-CALDESC:Events for Street Eats @ Franko
BEGIN:VTIMEZONE
TZID:Australia/Hobart
BEGIN:STANDARD
TZOFFSETFROM:+1100
TZOFFSETTO:+1000
TZNAME:AEST
DTSTART:20200404T160000
END:STANDARD
BEGIN:DAYLIGHT
TZOFFSETFROM:+1000
TZOFFSETTO:+1100
TZNAME:AEDT
DTSTART:20201003T160000
END:DAYLIGHT
END:VTIMEZONE
BEGIN:VEVENT
DTSTART;TZID=Australia/Hobart:20201127T160000
DTEND;TZID=Australia/Hobart:20201127T210000
DTSTAMP:20210301T004323
CREATED:20201119T014708Z
LAST-MODIFIED:20201127T062611Z
UID:5364-1606492800-1606510800@www.streeteatsfranko.com.au
SUMMARY:Franko November 27 2020 > Season Opener
DESCRIPTION:Hugo Bladel  DJ’ing on the Main Stage\nJazz+Soul @ the Chessboard >> Naomi Summers + Nate Andrew
URL:https://www.streeteatsfranko.com.au/event/franko-lo-fi-season-opener/
LOCATION:Franklin Square\, 70 Macquarie Street\, Hobart\, Tasmania\, 7000\, Australia
ATTACH;FMTTYPE=image/png:https://www.streeteatsfranko.com.au/wp-content/uploads/2020/11/V2-27-11-2020.png
ORGANIZER;CN="Peattie%20Events":MAILTO:admin@peattie.events
END:VEVENT
END:VCALENDAR