BEGIN:VCALENDAR
VERSION:2.0
PRODID:-//Street Eats @ Franko - ECPv5.3.2.1//NONSGML v1.0//EN
CALSCALE:GREGORIAN
METHOD:PUBLISH
X-WR-CALNAME:Street Eats @ Franko
X-ORIGINAL-URL:https://www.streeteatsfranko.com.au
X-WR-CALDESC:Events for Street Eats @ Franko
BEGIN:VTIMEZONE
TZID:Australia/Hobart
BEGIN:STANDARD
TZOFFSETFROM:+1100
TZOFFSETTO:+1000
TZNAME:AEST
DTSTART:20210403T160000
END:STANDARD
BEGIN:DAYLIGHT
TZOFFSETFROM:+1000
TZOFFSETTO:+1100
TZNAME:AEDT
DTSTART:20211002T160000
END:DAYLIGHT
END:VTIMEZONE
BEGIN:VEVENT
DTSTART;TZID=Australia/Hobart:20210226T160000
DTEND;TZID=Australia/Hobart:20210226T210000
DTSTAMP:20210301T003748
CREATED:20210207T013541Z
LAST-MODIFIED:20210226T041821Z
UID:13932-1614355200-1614373200@www.streeteatsfranko.com.au
SUMMARY:Franko Feb 26 | The DK Effect | Billy + The Men Of Steel
DESCRIPTION:4.45pm > Billy + the Men of Steel | 6.45pm > The DK Effect
URL:https://www.streeteatsfranko.com.au/event/franko-feb-26/
LOCATION:Franklin Square\, 70 Macquarie Street\, Hobart\, Tasmania\, 7000\, Australia
ATTACH;FMTTYPE=image/jpeg:https://www.streeteatsfranko.com.au/wp-content/uploads/2021/02/26-02-2021.jpg
ORGANIZER;CN="Peattie%20Events":MAILTO:admin@peattie.events
END:VEVENT
END:VCALENDAR