BEGIN:VCALENDAR
VERSION:2.0
PRODID:-//Street Eats @ Franko - ECPv5.3.2.1//NONSGML v1.0//EN
CALSCALE:GREGORIAN
METHOD:PUBLISH
X-WR-CALNAME:Street Eats @ Franko
X-ORIGINAL-URL:https://www.streeteatsfranko.com.au
X-WR-CALDESC:Events for Street Eats @ Franko
BEGIN:VTIMEZONE
TZID:Australia/Hobart
BEGIN:STANDARD
TZOFFSETFROM:+1100
TZOFFSETTO:+1000
TZNAME:AEST
DTSTART:20210403T160000
END:STANDARD
BEGIN:DAYLIGHT
TZOFFSETFROM:+1000
TZOFFSETTO:+1100
TZNAME:AEDT
DTSTART:20211002T160000
END:DAYLIGHT
END:VTIMEZONE
BEGIN:VEVENT
DTSTART;TZID=Australia/Hobart:20210205T160000
DTEND;TZID=Australia/Hobart:20210205T210000
DTSTAMP:20210301T004839
CREATED:20210121T232725Z
LAST-MODIFIED:20210207T011239Z
UID:12805-1612540800-1612558800@www.streeteatsfranko.com.au
SUMMARY:Franko Feb 05 | The Skinks | Rudy Marshall
DESCRIPTION:4.45pm > Rudy Marshall | 6.45pm > The Skinks
URL:https://www.streeteatsfranko.com.au/event/franko-feb-05/
LOCATION:Franklin Square\, 70 Macquarie Street\, Hobart\, Tasmania\, 7000\, Australia
ATTACH;FMTTYPE=image/jpeg:https://www.streeteatsfranko.com.au/wp-content/uploads/2021/01/05-02-2021.jpg
ORGANIZER;CN="Peattie%20Events":MAILTO:admin@peattie.events
END:VEVENT
END:VCALENDAR