BEGIN:VCALENDAR
VERSION:2.0
PRODID:-//Street Eats @ Franko - ECPv5.3.2.1//NONSGML v1.0//EN
CALSCALE:GREGORIAN
METHOD:PUBLISH
X-WR-CALNAME:Street Eats @ Franko
X-ORIGINAL-URL:https://www.streeteatsfranko.com.au
X-WR-CALDESC:Events for Street Eats @ Franko
BEGIN:VTIMEZONE
TZID:Australia/Hobart
BEGIN:STANDARD
TZOFFSETFROM:+1100
TZOFFSETTO:+1000
TZNAME:AEST
DTSTART:20200404T160000
END:STANDARD
BEGIN:DAYLIGHT
TZOFFSETFROM:+1000
TZOFFSETTO:+1100
TZNAME:AEDT
DTSTART:20201003T160000
END:DAYLIGHT
END:VTIMEZONE
BEGIN:VEVENT
DTSTART;TZID=Australia/Hobart:20201204T160000
DTEND;TZID=Australia/Hobart:20201204T210000
DTSTAMP:20210301T004421
CREATED:20201120T120740Z
LAST-MODIFIED:20201201T031912Z
UID:5563-1607097600-1607115600@www.streeteatsfranko.com.au
SUMMARY:Franko December 04 2020
DESCRIPTION:Jazz+Soul @ the Chessboard > Katy Raucher + Mark Schmalfuss | DJ Max Best on the Band Stand
URL:https://www.streeteatsfranko.com.au/event/franko-dec-04-2020/
LOCATION:Franklin Square\, 70 Macquarie Street\, Hobart\, Tasmania\, 7000\, Australia
ATTACH;FMTTYPE=image/png:https://www.streeteatsfranko.com.au/wp-content/uploads/2020/11/04-12-2020.png
ORGANIZER;CN="Peattie%20Events":MAILTO:admin@peattie.events
END:VEVENT
END:VCALENDAR